BEGIN:VCALENDAR
VERSION:2.0
PRODID:-//Sabre//Sabre VObject 4.5.8//EN
CALSCALE:GREGORIAN
BEGIN:VEVENT
UID:sabre-vobject-6315f73c-13b6-4768-9b97-644e21bcb677
DTSTAMP:20260420T130132Z
SUMMARY:Messe
DESCRIPTION:https://pfarreien-bistum-augsburg.df-preview.de/messe_id1707565
DTSTART;TZID=Europe/Berlin:20260417T090000
DURATION:PT30M
LOCATION:St. Josef
END:VEVENT
END:VCALENDAR
