BEGIN:VCALENDAR
VERSION:2.0
PRODID:-//Sabre//Sabre VObject 4.5.8//EN
CALSCALE:GREGORIAN
BEGIN:VEVENT
UID:sabre-vobject-984d2d54-6606-4ec3-a8ae-b66b8f40cea8
DTSTAMP:20260420T170542Z
SUMMARY:Rosenkranz
DESCRIPTION:https://pfarreien-bistum-augsburg.df-preview.de/rosenkranz_id17
 07448
DTSTART;TZID=Europe/Berlin:20260416T082500
DURATION:PT30M
LOCATION:St. Josef
END:VEVENT
END:VCALENDAR
