BEGIN:VCALENDAR
VERSION:2.0
PRODID:-//Sabre//Sabre VObject 4.5.8//EN
CALSCALE:GREGORIAN
BEGIN:VEVENT
UID:sabre-vobject-e999527e-33ec-440b-bbf8-230e4e30b06a
DTSTAMP:20260426T044302Z
SUMMARY:Messe\, anschl. Anbetung bis 12 Uhr
DESCRIPTION:https://pfarreien-bistum-augsburg.df-preview.de/messe-anschl-an
 betung-bis-12-uhr_id1707447
DTSTART;TZID=Europe/Berlin:20260414T100000
DURATION:PT30M
LOCATION:St. Josef
END:VEVENT
END:VCALENDAR
