BEGIN:VCALENDAR
VERSION:2.0
PRODID:-//Sabre//Sabre VObject 4.5.8//EN
CALSCALE:GREGORIAN
BEGIN:VEVENT
UID:sabre-vobject-c8c2faca-28da-4970-affe-d93757b2d5cb
DTSTAMP:20260420T135707Z
SUMMARY:Hl. Messe
DESCRIPTION:https://pfarreien-bistum-augsburg.df-preview.de/hl-messe_id1707
 115
DTSTART;TZID=Europe/Berlin:20260417T083000
DURATION:PT30M
LOCATION:Herz Mariä
END:VEVENT
END:VCALENDAR
