BEGIN:VCALENDAR
VERSION:2.0
PRODID:-//Sabre//Sabre VObject 4.5.8//EN
CALSCALE:GREGORIAN
BEGIN:VEVENT
UID:sabre-vobject-165f1abf-4f84-48f4-bcbe-7e7e2f6ec0d2
DTSTAMP:20260420T133133Z
SUMMARY:Rosenkranz
DESCRIPTION:https://pfarreien-bistum-augsburg.df-preview.de/rosenkranz_id17
 06980
DTSTART;TZID=Europe/Berlin:20260414T182500
DURATION:PT30M
LOCATION:Herz Mariä
END:VEVENT
END:VCALENDAR
