BEGIN:VCALENDAR
VERSION:2.0
PRODID:-//Sabre//Sabre VObject 4.5.8//EN
CALSCALE:GREGORIAN
BEGIN:VEVENT
UID:sabre-vobject-048bde1a-67c5-4e9f-9268-39faccfe10b9
DTSTAMP:20260420T232356Z
SUMMARY:Eucharistische Anbetung in Herz Mariä
DESCRIPTION:https://pfarreien-bistum-augsburg.df-preview.de/eucharistische-
 anbetung-in-herz-mariae_id1706979
DTSTART;TZID=Europe/Berlin:20260413T183000
DURATION:PT30M
LOCATION:Herz Mariä
END:VEVENT
END:VCALENDAR
