BEGIN:VCALENDAR
VERSION:2.0
PRODID:-//Sabre//Sabre VObject 4.5.8//EN
CALSCALE:GREGORIAN
BEGIN:VEVENT
UID:sabre-vobject-65d71119-02d3-4dcc-982b-8c35852e7dd2
DTSTAMP:20260421T160247Z
SUMMARY:Hl. Messe für die verst. Angehörigen der Pfarreiengemeinschaft un
 d im Gedenken an
DESCRIPTION:https://pfarreien-bistum-augsburg.df-preview.de/hl-messe-fuer-d
 ie-verst-angehoerigen-der-pfarreiengemeinschaft-und-im-gedenken-an_id17068
 12
DTSTART;TZID=Europe/Berlin:20260426T100000
DURATION:PT30M
LOCATION:St. Martin
END:VEVENT
END:VCALENDAR
