BEGIN:VCALENDAR
VERSION:2.0
PRODID:-//Sabre//Sabre VObject 4.5.8//EN
CALSCALE:GREGORIAN
BEGIN:VEVENT
UID:sabre-vobject-d516d9bf-82b5-42c4-a6c3-338a291647c8
DTSTAMP:20260422T021111Z
SUMMARY:Hl. Messe mit eucharistischer Anbetung\; Gedenken an
DESCRIPTION:https://pfarreien-bistum-augsburg.df-preview.de/hl-messe-mit-eu
 charistischer-anbetung-gedenken-an_id1706804
DTSTART;TZID=Europe/Berlin:20260422T190000
DURATION:PT30M
LOCATION:St. Martin
END:VEVENT
END:VCALENDAR
