BEGIN:VCALENDAR
VERSION:2.0
PRODID:-//Sabre//Sabre VObject 4.5.8//EN
CALSCALE:GREGORIAN
BEGIN:VEVENT
UID:sabre-vobject-468c8fbb-dd28-4947-aae8-47154f477cf6
DTSTAMP:20260422T031829Z
SUMMARY:Messfeier
DESCRIPTION:https://pfarreien-bistum-augsburg.df-preview.de/messfeier_id169
 8238
DTSTART;TZID=Europe/Berlin:20260326T190000
DURATION:PT30M
LOCATION:St. Martin\, Grimoldsriederstr. 6\, 86872 Scherstetten - Konradsho
 fen
END:VEVENT
END:VCALENDAR
