BEGIN:VCALENDAR
VERSION:2.0
PRODID:-//Sabre//Sabre VObject 4.5.8//EN
CALSCALE:GREGORIAN
BEGIN:VEVENT
UID:sabre-vobject-c911f010-8d6c-4254-949d-79d88afaebd2
DTSTAMP:20260422T215331Z
SUMMARY:Vorabendmesse - 17:15 Uhr Rosenkranz
DESCRIPTION:https://pfarreien-bistum-augsburg.df-preview.de/vorabendmesse-1
 7-15-uhr-rosenkranz_id1698174
DTSTART;TZID=Europe/Berlin:20260321T180000
DURATION:PT30M
LOCATION:St. Ägidius
END:VEVENT
END:VCALENDAR
