BEGIN:VCALENDAR
VERSION:2.0
PRODID:-//Sabre//Sabre VObject 4.5.8//EN
CALSCALE:GREGORIAN
BEGIN:VEVENT
UID:sabre-vobject-8ca108e8-088d-4bcc-8875-8ba0b0a939de
DTSTAMP:20260420T170059Z
SUMMARY:Anbetung des Allerheiligsten
DESCRIPTION:https://pfarreien-bistum-augsburg.df-preview.de/anbetung-des-al
 lerheiligsten_id1698151
DTSTART;TZID=Europe/Berlin:20260410T160000
DURATION:PT30M
LOCATION:St. Raphael\, Kolpingstr. 8a\, 86356 Neusäß
END:VEVENT
END:VCALENDAR
