BEGIN:VCALENDAR
VERSION:2.0
PRODID:-//Sabre//Sabre VObject 4.5.8//EN
CALSCALE:GREGORIAN
BEGIN:VEVENT
UID:sabre-vobject-e7cb548c-3eb9-403d-a3a0-2f316f4c8ec1
DTSTAMP:20260421T160255Z
SUMMARY:Feier der Osternacht
DESCRIPTION:https://pfarreien-bistum-augsburg.df-preview.de/feier-der-oster
 nacht_id1698141
DTSTART;TZID=Europe/Berlin:20260404T210000
DURATION:PT30M
LOCATION:St. Ägidius
END:VEVENT
END:VCALENDAR
