BEGIN:VCALENDAR
VERSION:2.0
PRODID:-//Sabre//Sabre VObject 4.5.8//EN
CALSCALE:GREGORIAN
BEGIN:VEVENT
UID:sabre-vobject-d38e43f5-651d-42da-a618-442fe24bc36a
DTSTAMP:20260422T165340Z
SUMMARY:Hl. Messe für die Pfarrgemeinde
DESCRIPTION:https://pfarreien-bistum-augsburg.df-preview.de/hl-messe-fuer-d
 ie-pfarrgemeinde_id1698140
DTSTART;TZID=Europe/Berlin:20260322T101500
DURATION:PT30M
LOCATION:St. Katharina
END:VEVENT
END:VCALENDAR
