BEGIN:VCALENDAR
VERSION:2.0
PRODID:-//Sabre//Sabre VObject 4.5.8//EN
CALSCALE:GREGORIAN
BEGIN:VEVENT
UID:sabre-vobject-fea3532a-91f1-4b46-9a3f-6629de466e63
DTSTAMP:20260424T130919Z
SUMMARY:Pfarrgottesdienst\, musikalisch gestaltet vom VIVA-Chor\, anschlie
 ßend Fastenessen im Kolpingheim\n- Misereor-Kollekte
DESCRIPTION:https://pfarreien-bistum-augsburg.df-preview.de/pfarrgottesdien
 st-musikalisch-gestaltet-vom-viva-chor-anschliessend-fastenessen-im-kolpin
 gheim-misereor-kollekte_id1698137
DTSTART;TZID=Europe/Berlin:20260322T103000
DURATION:PT30M
LOCATION:St. Blasius
END:VEVENT
END:VCALENDAR
