BEGIN:VCALENDAR
VERSION:2.0
PRODID:-//Sabre//Sabre VObject 4.5.8//EN
CALSCALE:GREGORIAN
BEGIN:VEVENT
UID:sabre-vobject-b692fecb-ac3f-4b3b-a9c0-1d587bc9ba88
DTSTAMP:20260421T052406Z
SUMMARY:Heilige Messe mit PG-Chor "Missa Laetatus Sum"  von Wolfgang Mensch
 ick
DESCRIPTION:https://pfarreien-bistum-augsburg.df-preview.de/heilige-messe-m
 it-pg-chor-missa-laetatus-sum-von-wolfgang-menschick_id1698127
DTSTART;TZID=Europe/Berlin:20260406T093000
DURATION:PT30M
LOCATION:St. Ägidius
END:VEVENT
END:VCALENDAR
