BEGIN:VCALENDAR
VERSION:2.0
PRODID:-//Sabre//Sabre VObject 4.5.8//EN
CALSCALE:GREGORIAN
BEGIN:VEVENT
UID:sabre-vobject-94a345a3-fa55-41c8-8404-7937ae016afd
DTSTAMP:20260423T005001Z
SUMMARY:Bußgottesdienst mit Eucharistie
DESCRIPTION:https://pfarreien-bistum-augsburg.df-preview.de/bussgottesdiens
 t-mit-eucharistie_id1698087
DTSTART;TZID=Europe/Berlin:20260322T103000
DURATION:PT30M
LOCATION:St. Peter und Paul
END:VEVENT
END:VCALENDAR
