BEGIN:VCALENDAR
VERSION:2.0
PRODID:-//Sabre//Sabre VObject 4.5.8//EN
CALSCALE:GREGORIAN
BEGIN:VEVENT
UID:sabre-vobject-2c1b9831-aa66-4021-bb07-937d99b18173
DTSTAMP:20260422T084938Z
SUMMARY:Hl. Messe
DESCRIPTION:https://pfarreien-bistum-augsburg.df-preview.de/hl-messe_id1698
 083
DTSTART;TZID=Europe/Berlin:20260414T190000
DURATION:PT30M
LOCATION:Maria Verkündigung\, Ainertshofen 1\, 86570 Ainertshofen
END:VEVENT
END:VCALENDAR
