BEGIN:VCALENDAR
VERSION:2.0
PRODID:-//Sabre//Sabre VObject 4.5.8//EN
CALSCALE:GREGORIAN
BEGIN:VEVENT
UID:sabre-vobject-2a962928-dfb8-4052-bd87-4d4069d7f5cd
DTSTAMP:20260424T150142Z
SUMMARY:Heilige Messe
DESCRIPTION:https://pfarreien-bistum-augsburg.df-preview.de/heilige-messe_i
 d1698073
DTSTART;TZID=Europe/Berlin:20260322T100000
DURATION:PT30M
LOCATION:St. Andreas
END:VEVENT
END:VCALENDAR
