BEGIN:VCALENDAR
VERSION:2.0
PRODID:-//Sabre//Sabre VObject 4.5.8//EN
CALSCALE:GREGORIAN
BEGIN:VEVENT
UID:sabre-vobject-216616e6-29e1-4a10-9d06-0d38717d8d23
DTSTAMP:20260424T234637Z
SUMMARY:Erstbeichte der Kommunionkinder Weinried u. Dietershofen
DESCRIPTION:https://pfarreien-bistum-augsburg.df-preview.de/erstbeichte-der
 -kommunionkinder-weinried-u-dietershofen_id1698019
DTSTART;TZID=Europe/Berlin:20260326T160000
DURATION:PT30M
LOCATION:Kuratie St. Laurentius
END:VEVENT
END:VCALENDAR
