BEGIN:VCALENDAR
VERSION:2.0
PRODID:-//Sabre//Sabre VObject 4.5.8//EN
CALSCALE:GREGORIAN
BEGIN:VEVENT
UID:sabre-vobject-0f1e4a23-9b64-4dbf-8bd3-820f2268fd37
DTSTAMP:20260425T005006Z
SUMMARY:Taufe Jonathan Huber
DESCRIPTION:https://pfarreien-bistum-augsburg.df-preview.de/taufe-jonathan-
 huber_id1698018
DTSTART;TZID=Europe/Berlin:20260321T110000
DURATION:PT30M
LOCATION:Kuratie St. Laurentius
END:VEVENT
END:VCALENDAR
