BEGIN:VCALENDAR
VERSION:2.0
PRODID:-//Sabre//Sabre VObject 4.5.8//EN
CALSCALE:GREGORIAN
BEGIN:VEVENT
UID:sabre-vobject-6924290f-cc52-46ff-ab6a-502e743f0259
DTSTAMP:20260422T073316Z
SUMMARY:Hl. Messe
DESCRIPTION:https://pfarreien-bistum-augsburg.df-preview.de/hl-messe_id1698
 003
DTSTART;TZID=Europe/Berlin:20260417T190000
DURATION:PT30M
LOCATION:St. Nikolaus\, Kirchpl. 3\, 86570 Inchenhofen
END:VEVENT
END:VCALENDAR
