BEGIN:VCALENDAR
VERSION:2.0
PRODID:-//Sabre//Sabre VObject 4.5.8//EN
CALSCALE:GREGORIAN
BEGIN:VEVENT
UID:sabre-vobject-5c823e3f-93dd-423f-99cf-ff9e2d4d0858
DTSTAMP:20260420T134735Z
SUMMARY:Hl. Messe nach Meinung
DESCRIPTION:https://pfarreien-bistum-augsburg.df-preview.de/hl-messe-nach-m
 einung_id1697982
DTSTART;TZID=Europe/Berlin:20260421T190000
DURATION:PT30M
LOCATION:St. Andreas
END:VEVENT
END:VCALENDAR
