BEGIN:VCALENDAR
VERSION:2.0
PRODID:-//Sabre//Sabre VObject 4.5.8//EN
CALSCALE:GREGORIAN
BEGIN:VEVENT
UID:sabre-vobject-5d604352-e0fe-495c-bce8-1ea4288506b8
DTSTAMP:20260422T182329Z
SUMMARY:Feier des Letzten Abendmahles anschl. Ölbergandacht
DESCRIPTION:https://pfarreien-bistum-augsburg.df-preview.de/feier-des-letzt
 en-abendmahles-anschl-oelbergandacht_id1697976
DTSTART;TZID=Europe/Berlin:20260402T190000
DURATION:PT30M
LOCATION:St. Peter und Paul
END:VEVENT
END:VCALENDAR
