BEGIN:VCALENDAR
VERSION:2.0
PRODID:-//Sabre//Sabre VObject 4.5.8//EN
CALSCALE:GREGORIAN
BEGIN:VEVENT
UID:sabre-vobject-baf5006e-2181-495c-a252-e650f59cf868
DTSTAMP:20260423T094107Z
SUMMARY:Morgenlob am Heiligen Grab
DESCRIPTION:https://pfarreien-bistum-augsburg.df-preview.de/morgenlob-am-he
 iligen-grab_id1697972
DTSTART;TZID=Europe/Berlin:20260404T090000
DURATION:PT30M
LOCATION:St. Nikolaus
END:VEVENT
END:VCALENDAR
