BEGIN:VCALENDAR
VERSION:2.0
PRODID:-//Sabre//Sabre VObject 4.5.8//EN
CALSCALE:GREGORIAN
BEGIN:VEVENT
UID:sabre-vobject-742c375a-4004-4ad2-885b-4ce4bb0dad67
DTSTAMP:20260421T104211Z
SUMMARY:Festgottesdienst\, musik. gestaltet mit orgelPLUSgesangsterzettunds
 treicher mit der "Missa sub titulo Sancti Leopoldi" von Johann Michael Hay
 dn
DESCRIPTION:https://pfarreien-bistum-augsburg.df-preview.de/festgottesdiens
 t-musik-gestaltet-mit-orgelplusgesangsterzettundstreicher-mit-der-missa-su
 b-titulo-sancti-leopoldi-von-johann-michael-haydn_id1697965
DTSTART;TZID=Europe/Berlin:20260406T183000
DURATION:PT30M
LOCATION:Zum Auferstandenen Herrn\, Riedstarße 14\, 86391 Leitershofen
END:VEVENT
END:VCALENDAR
