BEGIN:VCALENDAR
VERSION:2.0
PRODID:-//Sabre//Sabre VObject 4.5.8//EN
CALSCALE:GREGORIAN
BEGIN:VEVENT
UID:sabre-vobject-034d97f8-91c3-4d5e-a5ba-5c28aa85b84e
DTSTAMP:20260421T111832Z
SUMMARY:Treffpunkt am Gemeindehaus zum \nFamilienkreuzweg nach Mindelzell \
 n
DESCRIPTION:https://pfarreien-bistum-augsburg.df-preview.de/treffpunkt-am-g
 emeindehaus-zum-familienkreuzweg-nach-mindelzell_id1697938
DTSTART;TZID=Europe/Berlin:20260330T173000
DURATION:PT30M
LOCATION:St. Katharina
END:VEVENT
END:VCALENDAR
