BEGIN:VCALENDAR
VERSION:2.0
PRODID:-//Sabre//Sabre VObject 4.5.8//EN
CALSCALE:GREGORIAN
BEGIN:VEVENT
UID:sabre-vobject-95987e0e-605a-4698-ab30-4d0758d01c63
DTSTAMP:20260421T223206Z
SUMMARY:Hl. Messe für die Pfarrgemeinde
DESCRIPTION:https://pfarreien-bistum-augsburg.df-preview.de/hl-messe-fuer-d
 ie-pfarrgemeinde_id1697937
DTSTART;TZID=Europe/Berlin:20260328T191500
DURATION:PT30M
LOCATION:St. Katharina
END:VEVENT
END:VCALENDAR
