BEGIN:VCALENDAR
VERSION:2.0
PRODID:-//Sabre//Sabre VObject 4.5.8//EN
CALSCALE:GREGORIAN
BEGIN:VEVENT
UID:sabre-vobject-e2164834-c144-4084-84e2-39e7d3ea20df
DTSTAMP:20260422T031538Z
SUMMARY:Hochamt von der Hochheiligen Auferstehung unseres Herrn Jesus Chris
 tus mit Speisenweihe
DESCRIPTION:https://pfarreien-bistum-augsburg.df-preview.de/hochamt-von-der
 -hochheiligen-auferstehung-unseres-herrn-jesus-christus-mit-speisenweihe_i
 d1697909
DTSTART;TZID=Europe/Berlin:20260405T183000
DURATION:PT30M
LOCATION:St. Michael\, Kirchpl. \, 86415 Mering
END:VEVENT
END:VCALENDAR
