BEGIN:VCALENDAR
VERSION:2.0
PRODID:-//Sabre//Sabre VObject 4.5.8//EN
CALSCALE:GREGORIAN
BEGIN:VEVENT
UID:sabre-vobject-28e49017-f22a-4c2f-b515-ff9e61badaf7
DTSTAMP:20260423T234803Z
SUMMARY:- 11.15 Uhr Krabbelgruppe im Pfarrhof Autenried
DESCRIPTION:https://pfarreien-bistum-augsburg.df-preview.de/11-15-uhr-krabb
 elgruppe-im-pfarrhof-autenried_id1697882
DTSTART;TZID=Europe/Berlin:20260331T093000
DURATION:PT30M
LOCATION:St. Stephan\, Benno-Bichler-Platz\, 89335 Autenried
END:VEVENT
END:VCALENDAR
