BEGIN:VCALENDAR
VERSION:2.0
PRODID:-//Sabre//Sabre VObject 4.5.8//EN
CALSCALE:GREGORIAN
BEGIN:VEVENT
UID:sabre-vobject-06e6064a-a9c9-4ab5-806d-682957396da7
DTSTAMP:20260424T025300Z
SUMMARY:Palmweihe beim Hammerer-Kreuz - Prozession zur Kirche \nHl. Messe f
 ür die Pfarrgemeinde \n(anschl. sind Palmbuschen erhältlich)\n\n
DESCRIPTION:https://pfarreien-bistum-augsburg.df-preview.de/palmweihe-beim-
 hammerer-kreuz-prozession-zur-kirche-hl-messe-fuer-die-pfarrgemeinde-ansch
 l-sind-palmbuschen-erhaeltlich_id1697881
DTSTART;TZID=Europe/Berlin:20260329T101500
DURATION:PT30M
LOCATION:St. Stephan\, Benno-Bichler-Platz\, 89335 Autenried
END:VEVENT
END:VCALENDAR
