BEGIN:VCALENDAR
VERSION:2.0
PRODID:-//Sabre//Sabre VObject 4.5.8//EN
CALSCALE:GREGORIAN
BEGIN:VEVENT
UID:sabre-vobject-23f96207-ecf9-43fa-9d30-a17c022fd2c4
DTSTAMP:20260421T004749Z
SUMMARY:Hl. Messe anschl. Aussetzung des Allerheiligsten u. sakramentaler S
 egen
DESCRIPTION:https://pfarreien-bistum-augsburg.df-preview.de/hl-messe-anschl
 -aussetzung-des-allerheiligsten-u-sakramentaler-segen_id1697865
DTSTART;TZID=Europe/Berlin:20260416T183000
DURATION:PT30M
LOCATION:St. Blasius
END:VEVENT
END:VCALENDAR
