BEGIN:VCALENDAR
VERSION:2.0
PRODID:-//Sabre//Sabre VObject 4.5.8//EN
CALSCALE:GREGORIAN
BEGIN:VEVENT
UID:sabre-vobject-4c98bb99-c623-4353-bb53-5c789e36f5d6
DTSTAMP:20260420T232350Z
SUMMARY:Wort-Gottes-Feier
DESCRIPTION:https://pfarreien-bistum-augsburg.df-preview.de/wort-gottes-fei
 er_id1697843
DTSTART;TZID=Europe/Berlin:20260327T083000
DURATION:PT30M
LOCATION:St. Georg
END:VEVENT
END:VCALENDAR
