BEGIN:VCALENDAR
VERSION:2.0
PRODID:-//Sabre//Sabre VObject 4.5.8//EN
CALSCALE:GREGORIAN
BEGIN:VEVENT
UID:sabre-vobject-dc669391-3bb9-4307-bdd4-15c9dd5e5646
DTSTAMP:20260422T114538Z
SUMMARY:Festgottesdienst
DESCRIPTION:https://pfarreien-bistum-augsburg.df-preview.de/festgottesdiens
 t_id1697837
DTSTART;TZID=Europe/Berlin:20260405T090000
DURATION:PT30M
LOCATION:St. Anna
END:VEVENT
END:VCALENDAR
