BEGIN:VCALENDAR
VERSION:2.0
PRODID:-//Sabre//Sabre VObject 4.5.8//EN
CALSCALE:GREGORIAN
BEGIN:VEVENT
UID:sabre-vobject-394687a1-f140-4d73-a4fa-5c178b078074
DTSTAMP:20260421T092433Z
SUMMARY:Heilige Messe
DESCRIPTION:https://pfarreien-bistum-augsburg.df-preview.de/heilige-messe_i
 d1697824
DTSTART;TZID=Europe/Berlin:20260327T083000
DURATION:PT30M
LOCATION:St. Georg
END:VEVENT
END:VCALENDAR
