BEGIN:VCALENDAR
VERSION:2.0
PRODID:-//Sabre//Sabre VObject 4.5.8//EN
CALSCALE:GREGORIAN
BEGIN:VEVENT
UID:sabre-vobject-bf9d3d86-4cc2-45ec-b570-7f7f2f628410
DTSTAMP:20260421T134958Z
SUMMARY:Wort-Gottes-Feier
DESCRIPTION:https://pfarreien-bistum-augsburg.df-preview.de/wort-gottes-fei
 er_id1697823
DTSTART;TZID=Europe/Berlin:20260325T083000
DURATION:PT30M
LOCATION:St. Georg
END:VEVENT
END:VCALENDAR
