BEGIN:VCALENDAR
VERSION:2.0
PRODID:-//Sabre//Sabre VObject 4.5.8//EN
CALSCALE:GREGORIAN
BEGIN:VEVENT
UID:sabre-vobject-ed1016f1-d06a-4c12-8174-4dce1605fe61
DTSTAMP:20260421T152534Z
SUMMARY:Rosenkranz
DESCRIPTION:https://pfarreien-bistum-augsburg.df-preview.de/rosenkranz_id16
 97822
DTSTART;TZID=Europe/Berlin:20260324T180000
DURATION:PT30M
LOCATION:St. Georg
END:VEVENT
END:VCALENDAR
