BEGIN:VCALENDAR
VERSION:2.0
PRODID:-//Sabre//Sabre VObject 4.5.8//EN
CALSCALE:GREGORIAN
BEGIN:VEVENT
UID:sabre-vobject-8b48cf7a-84db-402c-a6dc-ca81ef6ad4ed
DTSTAMP:20260422T124656Z
SUMMARY:Feier der Osternacht von der Hochheiligen Auferstehung unseres Herr
 n Jesus Christus mit Speisenweihe
DESCRIPTION:https://pfarreien-bistum-augsburg.df-preview.de/feier-der-oster
 nacht-von-der-hochheiligen-auferstehung-unseres-herrn-jesus-christus-mit-s
 peisenweihe_id1697801
DTSTART;TZID=Europe/Berlin:20260404T203000
DURATION:PT30M
LOCATION:St. Michael\, Kirchpl. \, 86415 Mering
END:VEVENT
END:VCALENDAR
