BEGIN:VCALENDAR
VERSION:2.0
PRODID:-//Sabre//Sabre VObject 4.5.8//EN
CALSCALE:GREGORIAN
BEGIN:VEVENT
UID:sabre-vobject-22b4d789-2acb-4a7f-93d6-155f447a18fb
DTSTAMP:20260421T060416Z
SUMMARY:Heilige Messe der Katholisch-Italienischen Gemeinde
DESCRIPTION:https://pfarreien-bistum-augsburg.df-preview.de/heilige-messe-d
 er-katholisch-italienischen-gemeinde_id1697773
DTSTART;TZID=Europe/Berlin:20260419T110000
DURATION:PT30M
LOCATION:St. Canisius\, Hochfeldstr. 63\, 86159 Augsburg
END:VEVENT
END:VCALENDAR
