BEGIN:VCALENDAR
VERSION:2.0
PRODID:-//Sabre//Sabre VObject 4.5.8//EN
CALSCALE:GREGORIAN
BEGIN:VEVENT
UID:sabre-vobject-ec2ecf7b-9a26-4eda-b844-70e29bff1c31
DTSTAMP:20260421T195422Z
SUMMARY:Familiengottesdienst\; anschl. Ostereiersuche für Kinder
DESCRIPTION:https://pfarreien-bistum-augsburg.df-preview.de/familiengottesd
 ienst-anschl-ostereiersuche-fuer-kinder_id1697725
DTSTART;TZID=Europe/Berlin:20260406T103000
DURATION:PT30M
LOCATION:St. Ulrich und Afra
END:VEVENT
END:VCALENDAR
