BEGIN:VCALENDAR
VERSION:2.0
PRODID:-//Sabre//Sabre VObject 4.5.8//EN
CALSCALE:GREGORIAN
BEGIN:VEVENT
UID:sabre-vobject-445a07fd-643c-4c4c-86c8-7f41a5fa84f1
DTSTAMP:20260422T181103Z
SUMMARY:Feier der Osternacht
DESCRIPTION:https://pfarreien-bistum-augsburg.df-preview.de/feier-der-oster
 nacht_id1697721
DTSTART;TZID=Europe/Berlin:20260405T050000
DURATION:PT30M
LOCATION:St. Ulrich und Afra
END:VEVENT
END:VCALENDAR
