BEGIN:VCALENDAR
VERSION:2.0
PRODID:-//Sabre//Sabre VObject 4.5.8//EN
CALSCALE:GREGORIAN
BEGIN:VEVENT
UID:sabre-vobject-bf659f5f-ee64-44dc-b37f-d1b6673f5e4b
DTSTAMP:20260420T140430Z
SUMMARY:Pfarrgottesdienst mit Weihe der Palmbuschen (Palmbuschen gegen Spen
 de vor der Messe) - für die verst. Mitglieder des Obst- u. Gartenbauverei
 nes Eppishausen
DESCRIPTION:https://pfarreien-bistum-augsburg.df-preview.de/pfarrgottesdien
 st-mit-weihe-der-palmbuschen-palmbuschen-gegen-spende-vor-der-messe-fuer-d
 ie-verst-mitglieder-des-obst-u-gartenbauvereines-eppishausen_id1697703
DTSTART;TZID=Europe/Berlin:20260329T083000
DURATION:PT30M
LOCATION:St. Michael\, Am Kirchberg 10\, 87745 Eppishausen Kirchheim
END:VEVENT
END:VCALENDAR
