BEGIN:VCALENDAR
VERSION:2.0
PRODID:-//Sabre//Sabre VObject 4.5.8//EN
CALSCALE:GREGORIAN
BEGIN:VEVENT
UID:sabre-vobject-a464649c-3c25-4dd1-a66b-5c134d0d14c4
DTSTAMP:20260421T021333Z
SUMMARY:Hl. Messe
DESCRIPTION:https://pfarreien-bistum-augsburg.df-preview.de/hl-messe_id1697
 702
DTSTART;TZID=Europe/Berlin:20260324T191500
DURATION:PT30M
LOCATION:St. Michael\, Am Kirchberg 10\, 87745 Eppishausen Kirchheim
END:VEVENT
END:VCALENDAR
