BEGIN:VCALENDAR
VERSION:2.0
PRODID:-//Sabre//Sabre VObject 4.5.8//EN
CALSCALE:GREGORIAN
BEGIN:VEVENT
UID:sabre-vobject-9d293451-e856-4685-aebb-610f4f264b3b
DTSTAMP:20260425T021956Z
SUMMARY:Osternachtfeier mit Speisensegnung\, Messfeier für
DESCRIPTION:https://pfarreien-bistum-augsburg.df-preview.de/osternachtfeier
 -mit-speisensegnung-messfeier-fuer_id1697657
DTSTART;TZID=Europe/Berlin:20260404T200000
DURATION:PT30M
LOCATION:St. Vitus
END:VEVENT
END:VCALENDAR
