BEGIN:VCALENDAR
VERSION:2.0
PRODID:-//Sabre//Sabre VObject 4.5.8//EN
CALSCALE:GREGORIAN
BEGIN:VEVENT
UID:sabre-vobject-8b59d621-4fa0-4665-ab45-519fa88de149
DTSTAMP:20260422T103752Z
SUMMARY:Messe im Caritas-Seniorenzentrum St. Hedwig
DESCRIPTION:https://pfarreien-bistum-augsburg.df-preview.de/messe-im-carita
 s-seniorenzentrum-st-hedwig_id1697635
DTSTART;TZID=Europe/Berlin:20260326T090000
DURATION:PT30M
LOCATION:St. Ulrich
END:VEVENT
END:VCALENDAR
