BEGIN:VCALENDAR
VERSION:2.0
PRODID:-//Sabre//Sabre VObject 4.5.8//EN
CALSCALE:GREGORIAN
BEGIN:VEVENT
UID:sabre-vobject-699870e1-6485-4cbb-b4c8-b427699330f0
DTSTAMP:20260422T121001Z
SUMMARY:Beichtgelegenheit in Zur Göttlichen Vorsehung
DESCRIPTION:https://pfarreien-bistum-augsburg.df-preview.de/beichtgelegenhe
 it-in-zur-goettlichen-vorsehung_id1697620
DTSTART;TZID=Europe/Berlin:20260325T190000
DURATION:PT30M
LOCATION:St. Ulrich
END:VEVENT
END:VCALENDAR
