BEGIN:VCALENDAR
VERSION:2.0
PRODID:-//Sabre//Sabre VObject 4.5.8//EN
CALSCALE:GREGORIAN
BEGIN:VEVENT
UID:sabre-vobject-c0ae2f37-0f12-41a5-b559-807a6fb8c312
DTSTAMP:20260422T155229Z
SUMMARY:Laudes in St. Ulrich
DESCRIPTION:https://pfarreien-bistum-augsburg.df-preview.de/laudes-in-st-ul
 rich_id1697618
DTSTART;TZID=Europe/Berlin:20260325T080000
DURATION:PT30M
LOCATION:St. Ulrich
END:VEVENT
END:VCALENDAR
