BEGIN:VCALENDAR
VERSION:2.0
PRODID:-//Sabre//Sabre VObject 4.5.8//EN
CALSCALE:GREGORIAN
BEGIN:VEVENT
UID:sabre-vobject-b672e0b4-aa6f-4ade-b438-f5ed3d283b40
DTSTAMP:20260422T182324Z
SUMMARY:Messe in St. Ulrich
DESCRIPTION:https://pfarreien-bistum-augsburg.df-preview.de/messe-in-st-ulr
 ich_id1697616
DTSTART;TZID=Europe/Berlin:20260323T183000
DURATION:PT30M
LOCATION:St. Ulrich
END:VEVENT
END:VCALENDAR
