BEGIN:VCALENDAR
VERSION:2.0
PRODID:-//Sabre//Sabre VObject 4.5.8//EN
CALSCALE:GREGORIAN
BEGIN:VEVENT
UID:sabre-vobject-b2e7060d-a2e1-4d3f-93fc-0d2501ef2d5d
DTSTAMP:20260421T094310Z
SUMMARY:Hl. Messe für die Pfarrgemeinde
DESCRIPTION:https://pfarreien-bistum-augsburg.df-preview.de/hl-messe-fuer-d
 ie-pfarrgemeinde_id1697605
DTSTART;TZID=Europe/Berlin:20260405T101500
DURATION:PT30M
LOCATION:Heilig Kreuz
END:VEVENT
END:VCALENDAR
