BEGIN:VCALENDAR
VERSION:2.0
PRODID:-//Sabre//Sabre VObject 4.5.8//EN
CALSCALE:GREGORIAN
BEGIN:VEVENT
UID:sabre-vobject-6d4b88d2-1d46-4713-a1f4-1e0379f0bca4
DTSTAMP:20260426T035058Z
SUMMARY:Heilige Messe 08:50 Palmweihe am Pfarrheim - Prozession wenn Urkund
 en da dann hier Verabschiedung der PGR -s dann Pfarrer Tausch
DESCRIPTION:https://pfarreien-bistum-augsburg.df-preview.de/heilige-messe-0
 8-50-palmweihe-am-pfarrheim-prozession-wenn-urkunden-da-dann-hier-verabsch
 iedung-der-pgr-s-dann-pfarrer-tausch_id1697580
DTSTART;TZID=Europe/Berlin:20260329T090000
DURATION:PT30M
LOCATION:St. Martin
END:VEVENT
END:VCALENDAR
