BEGIN:VCALENDAR
VERSION:2.0
PRODID:-//Sabre//Sabre VObject 4.5.8//EN
CALSCALE:GREGORIAN
BEGIN:VEVENT
UID:sabre-vobject-0ca8d642-7272-4bcb-ae7a-aaaef7725257
DTSTAMP:20260424T011138Z
SUMMARY:Festamt mit Speisenweihe
DESCRIPTION:https://pfarreien-bistum-augsburg.df-preview.de/festamt-mit-spe
 isenweihe_id1697562
DTSTART;TZID=Europe/Berlin:20260405T100000
DURATION:PT30M
LOCATION:St. Martin
END:VEVENT
END:VCALENDAR
